BEGIN:VCALENDAR
VERSION:2.0
PRODID:-//The Red Bones - ECPv6.15.20//NONSGML v1.0//EN
CALSCALE:GREGORIAN
METHOD:PUBLISH
X-WR-CALNAME:The Red Bones
X-ORIGINAL-URL:https://theredbones.com
X-WR-CALDESC:Évènements pour The Red Bones
REFRESH-INTERVAL;VALUE=DURATION:PT1H
X-Robots-Tag:noindex
X-PUBLISHED-TTL:PT1H
BEGIN:VTIMEZONE
TZID:Europe/Zurich
BEGIN:DAYLIGHT
TZOFFSETFROM:+0100
TZOFFSETTO:+0200
TZNAME:CEST
DTSTART:20170326T010000
END:DAYLIGHT
BEGIN:STANDARD
TZOFFSETFROM:+0200
TZOFFSETTO:+0100
TZNAME:CET
DTSTART:20171029T010000
END:STANDARD
BEGIN:DAYLIGHT
TZOFFSETFROM:+0100
TZOFFSETTO:+0200
TZNAME:CEST
DTSTART:20180325T010000
END:DAYLIGHT
BEGIN:STANDARD
TZOFFSETFROM:+0200
TZOFFSETTO:+0100
TZNAME:CET
DTSTART:20181028T010000
END:STANDARD
BEGIN:DAYLIGHT
TZOFFSETFROM:+0100
TZOFFSETTO:+0200
TZNAME:CEST
DTSTART:20190331T010000
END:DAYLIGHT
BEGIN:STANDARD
TZOFFSETFROM:+0200
TZOFFSETTO:+0100
TZNAME:CET
DTSTART:20191027T010000
END:STANDARD
BEGIN:DAYLIGHT
TZOFFSETFROM:+0100
TZOFFSETTO:+0200
TZNAME:CEST
DTSTART:20200329T010000
END:DAYLIGHT
BEGIN:STANDARD
TZOFFSETFROM:+0200
TZOFFSETTO:+0100
TZNAME:CET
DTSTART:20201025T010000
END:STANDARD
BEGIN:DAYLIGHT
TZOFFSETFROM:+0100
TZOFFSETTO:+0200
TZNAME:CEST
DTSTART:20210328T010000
END:DAYLIGHT
BEGIN:STANDARD
TZOFFSETFROM:+0200
TZOFFSETTO:+0100
TZNAME:CET
DTSTART:20211031T010000
END:STANDARD
BEGIN:DAYLIGHT
TZOFFSETFROM:+0100
TZOFFSETTO:+0200
TZNAME:CEST
DTSTART:20220327T010000
END:DAYLIGHT
BEGIN:STANDARD
TZOFFSETFROM:+0200
TZOFFSETTO:+0100
TZNAME:CET
DTSTART:20221030T010000
END:STANDARD
BEGIN:DAYLIGHT
TZOFFSETFROM:+0100
TZOFFSETTO:+0200
TZNAME:CEST
DTSTART:20230326T010000
END:DAYLIGHT
BEGIN:STANDARD
TZOFFSETFROM:+0200
TZOFFSETTO:+0100
TZNAME:CET
DTSTART:20231029T010000
END:STANDARD
BEGIN:DAYLIGHT
TZOFFSETFROM:+0100
TZOFFSETTO:+0200
TZNAME:CEST
DTSTART:20240331T010000
END:DAYLIGHT
BEGIN:STANDARD
TZOFFSETFROM:+0200
TZOFFSETTO:+0100
TZNAME:CET
DTSTART:20241027T010000
END:STANDARD
BEGIN:DAYLIGHT
TZOFFSETFROM:+0100
TZOFFSETTO:+0200
TZNAME:CEST
DTSTART:20250330T010000
END:DAYLIGHT
BEGIN:STANDARD
TZOFFSETFROM:+0200
TZOFFSETTO:+0100
TZNAME:CET
DTSTART:20251026T010000
END:STANDARD
BEGIN:DAYLIGHT
TZOFFSETFROM:+0100
TZOFFSETTO:+0200
TZNAME:CEST
DTSTART:20260329T010000
END:DAYLIGHT
BEGIN:STANDARD
TZOFFSETFROM:+0200
TZOFFSETTO:+0100
TZNAME:CET
DTSTART:20261025T010000
END:STANDARD
END:VTIMEZONE
BEGIN:VEVENT
DTSTART;TZID=Europe/Zurich:20251004T213000
DTEND;TZID=Europe/Zurich:20251004T230000
DTSTAMP:20260421T173038
CREATED:20250316T141108Z
LAST-MODIFIED:20250411T150032Z
UID:29691-1759613400-1759618800@theredbones.com
SUMMARY:Taco's Bar – Lausanne
DESCRIPTION:Chapeau pour les artistes.
URL:https://theredbones.com/event/tacos-bar/
LOCATION:Tacos Bar\, Rue de Genève 17\, Lausanne\, 1003\, Switzerland
ATTACH;FMTTYPE=image/png:https://theredbones.com/wp-content/uploads/2025/03/Screenshot-2025-03-16-at-15.09.58.png
END:VEVENT
BEGIN:VEVENT
DTSTART;TZID=Europe/Zurich:20250621T080000
DTEND;TZID=Europe/Zurich:20250621T170000
DTSTAMP:20260421T173038
CREATED:20250610T185100Z
LAST-MODIFIED:20250610T220956Z
UID:29714-1750492800-1750525200@theredbones.com
SUMMARY:La Fête de la Musique Lausanne 2025
DESCRIPTION:
URL:https://theredbones.com/event/la-fete-de-la-musique-lausanne-2025/
LOCATION:King Size Pub\, Rue du Port-Franc\, Lausanne\, 1000\, Switzerland
ATTACH;FMTTYPE=image/png:https://theredbones.com/wp-content/uploads/2025/06/Screenshot-2025-06-10-at-20.50.13.png
END:VEVENT
BEGIN:VEVENT
DTSTART;TZID=Europe/Zurich:20250524T203000
DTEND;TZID=Europe/Zurich:20250524T230000
DTSTAMP:20260421T173038
CREATED:20250411T145148Z
LAST-MODIFIED:20250428T153013Z
UID:29700-1748118600-1748127600@theredbones.com
SUMMARY:The Rockies – Lausanne
DESCRIPTION:
URL:https://theredbones.com/event/the-the-rockies-lausanne/
LOCATION:The Rockies\, Rue du Bourg 43\, Lausanne\, 1003\, Switzerland
ATTACH;FMTTYPE=image/jpeg:https://theredbones.com/wp-content/uploads/2025/04/Rookies-scaled.jpg
END:VEVENT
BEGIN:VEVENT
DTSTART;TZID=Europe/Zurich:20250308T183000
DTEND;TZID=Europe/Zurich:20250308T223000
DTSTAMP:20260421T173038
CREATED:20241106T234420Z
LAST-MODIFIED:20250304T203603Z
UID:29675-1741458600-1741473000@theredbones.com
SUMMARY:L'Antre d'Eux de Champoussin (Val-d'Illiez)
DESCRIPTION:
URL:https://theredbones.com/event/cave-de-champoussin-val-dilliez/
LOCATION:Champoussin\, Champoussin\, Val-d'Illiez\, 1873\, Suisse
END:VEVENT
BEGIN:VEVENT
DTSTART;TZID=Europe/Zurich:20250117T210000
DTEND;TZID=Europe/Zurich:20250117T230000
DTSTAMP:20260421T173038
CREATED:20240924T155647Z
LAST-MODIFIED:20241117T202536Z
UID:29652-1737147600-1737154800@theredbones.com
SUMMARY:Les Citrons Masqués
DESCRIPTION:Prix libre pour soutenir les artistes et la salle.
URL:https://theredbones.com/event/les-citrons-masques/
LOCATION:Les Citrons Masqués\, Rue des Pêcheurs 4\, Yverdon-les-Bains\, Vaud\, 1400\, Suisse
ATTACH;FMTTYPE=image/png:https://theredbones.com/wp-content/uploads/2024/09/Screenshot-2024-10-06-at-20.58.02.png
END:VEVENT
BEGIN:VEVENT
DTSTART;TZID=Europe/Zurich:20241101T210000
DTEND;TZID=Europe/Zurich:20241101T230000
DTSTAMP:20260421T173038
CREATED:20240924T154449Z
LAST-MODIFIED:20240928T111310Z
UID:29650-1730494800-1730502000@theredbones.com
SUMMARY:Base Bar Lausanne 2024
DESCRIPTION:Entrée libre. Chapeau pour les artistes.
URL:https://theredbones.com/event/base-bar-lausanne-2024/
LOCATION:Base Bar\, Av. de Sévelin 46\, Lausanne\, 1004\, Suisse
ATTACH;FMTTYPE=image/jpeg:https://theredbones.com/wp-content/uploads/2024/09/flyer-Red-Bones-Base-Bar-2024-.jpg
END:VEVENT
BEGIN:VEVENT
DTSTART;TZID=Europe/Zurich:20240810T163000
DTEND;TZID=Europe/Zurich:20240810T173000
DTSTAMP:20260421T173038
CREATED:20240229T221643Z
LAST-MODIFIED:20240229T221917Z
UID:29589-1723307400-1723311000@theredbones.com
SUMMARY:Lyss on stage
DESCRIPTION:
URL:https://theredbones.com/event/lyss-on-stage/
LOCATION:Lyss\, Lyss\, 3250\, Suisse
ATTACH;FMTTYPE=image/png:https://theredbones.com/wp-content/uploads/2024/02/Screenshot-2024-02-29-at-23.18.30.png
END:VEVENT
BEGIN:VEVENT
DTSTART;TZID=Europe/Zurich:20240621T210000
DTEND;TZID=Europe/Zurich:20240621T220000
DTSTAMP:20260421T173038
CREATED:20240619T080442Z
LAST-MODIFIED:20240619T080545Z
UID:29624-1719003600-1719007200@theredbones.com
SUMMARY:Fête de la musique 2024
DESCRIPTION:
URL:https://theredbones.com/event/fete-de-la-musique-2024/
LOCATION:Les Citrons Masqués\, Rue des Pêcheurs 4\, Yverdon-les-Bains\, Vaud\, 1400\, Suisse
ATTACH;FMTTYPE=image/jpeg:https://theredbones.com/wp-content/uploads/2024/06/LaFMY24-Web-Banner-768x432-1.jpg
END:VEVENT
BEGIN:VEVENT
DTSTART;TZID=Europe/Zurich:20230708T180000
DTEND;TZID=Europe/Zurich:20230708T220000
DTSTAMP:20260421T173038
CREATED:20230701T225235Z
LAST-MODIFIED:20230701T225349Z
UID:29571-1688839200-1688853600@theredbones.com
SUMMARY:Concert aux Olympiades du Poussin
DESCRIPTION:Un concert blues-rock pour tous les grands et petits poussins !
URL:https://theredbones.com/event/concert-aux-olympiades-du-poussin/
LOCATION:Champoussin\, Champoussin\, Val-d'Illiez\, 1873\, Suisse
ATTACH;FMTTYPE=image/jpeg:https://theredbones.com/wp-content/uploads/2023/07/356255241_243114955121873_7760029008990860307_n.jpg
END:VEVENT
BEGIN:VEVENT
DTSTART;TZID=Europe/Zurich:20230621T184500
DTEND;TZID=Europe/Zurich:20230621T193000
DTSTAMP:20260421T173038
CREATED:20230612T211158Z
LAST-MODIFIED:20230612T211158Z
UID:29563-1687373100-1687375800@theredbones.com
SUMMARY:Fête de la musique 2023
DESCRIPTION:Entrée libre.
URL:https://theredbones.com/event/fete-de-la-musique-2023/
LOCATION:Les Citrons Masqués\, Rue des Pêcheurs 4\, Yverdon-les-Bains\, Vaud\, 1400\, Suisse
ATTACH;FMTTYPE=image/jpeg:https://theredbones.com/wp-content/uploads/2023/06/LaFMY_23-Web-banner_3.1-1024x576-1.jpg
END:VEVENT
BEGIN:VEVENT
DTSTART;TZID=Europe/Zurich:20230119T200000
DTEND;TZID=Europe/Zurich:20230119T210000
DTSTAMP:20260421T173038
CREATED:20230117T225350Z
LAST-MODIFIED:20230120T222857Z
UID:29501-1674158400-1674162000@theredbones.com
SUMMARY:Newcomer Night Vol.3 – The Mahogany Hall (Bern)
DESCRIPTION:
URL:https://theredbones.com/event/newcomer-night-vol-3/
LOCATION:Mahogany Hall Bern\, Klosterlistutz 18\, Bern\, 3000\, Suisse
ATTACH;FMTTYPE=image/png:https://theredbones.com/wp-content/uploads/2023/01/2022-04-21_newcomernight.png
END:VEVENT
BEGIN:VEVENT
DTSTART;TZID=Europe/Zurich:20220902T210000
DTEND;TZID=Europe/Zurich:20220902T230000
DTSTAMP:20260421T173038
CREATED:20220723T113953Z
LAST-MODIFIED:20220723T114250Z
UID:29486-1662152400-1662159600@theredbones.com
SUMMARY:Base Bar – Lausanne Sévelin
DESCRIPTION:
URL:https://theredbones.com/event/base-bar-lausanne-sevelin/
LOCATION:Base Bar\, Av. de Sévelin 46\, Lausanne\, 1004\, Suisse
ATTACH;FMTTYPE=image/jpeg:https://theredbones.com/wp-content/uploads/2022/07/The-Red-Bones-2-septembre.jpg
END:VEVENT
BEGIN:VEVENT
DTSTART;TZID=Europe/Zurich:20220621T181500
DTEND;TZID=Europe/Zurich:20220621T183000
DTSTAMP:20260421T173038
CREATED:20220606T221454Z
LAST-MODIFIED:20220608T221851Z
UID:29432-1655835300-1655836200@theredbones.com
SUMMARY:Fête de la musique 2022
DESCRIPTION:
URL:https://theredbones.com/event/fete-de-la-musique-2022/
LOCATION:Yverdon-les-Bains\, Le Château\, Yverdon-les-Bains\, 1400\, Suisse
ATTACH;FMTTYPE=image/png:https://theredbones.com/wp-content/uploads/2022/06/affiche-lafmy-2022.png
END:VEVENT
BEGIN:VEVENT
DTSTART;TZID=Europe/Zurich:20200823T153000
DTEND;TZID=Europe/Zurich:20200823T170000
DTSTAMP:20260421T173038
CREATED:20200813T205450Z
LAST-MODIFIED:20200813T205450Z
UID:29242-1598196600-1598202000@theredbones.com
SUMMARY:Concert Open Air en clôture de la Fête du quartier de La Sallaz
DESCRIPTION:Reprises blues et blues-rock pour terminer en beauté la Fête du quartier de La Sallaz. Le tout organisé de sorte qu’il soit possible de respecter les gestes barrière recommandés par les autorités sanitaires.
URL:https://theredbones.com/event/concert-open-air-en-cloture-de-la-fete-du-quartier-de-la-sallaz/
LOCATION:La Sallaz\, Place de la Sallaz\, Lasuanne\, 1010
END:VEVENT
BEGIN:VEVENT
DTSTART;VALUE=DATE:20200613
DTEND;VALUE=DATE:20200615
DTSTAMP:20260421T173038
CREATED:20200219T175354Z
LAST-MODIFIED:20200224T185816Z
UID:28959-1592006400-1592179199@theredbones.com
SUMMARY:FestiMusiques Moudon 2020
DESCRIPTION:
URL:https://theredbones.com/event/festimusiques-moudon-2020/
LOCATION:Moudon\, 1510
ATTACH;FMTTYPE=image/jpeg:https://theredbones.com/wp-content/uploads/2020/02/festimusiques_affiche2020_1240.jpg
END:VEVENT
BEGIN:VEVENT
DTSTART;TZID=Europe/Zurich:20200517T153000
DTEND;TZID=Europe/Zurich:20200517T170000
DTSTAMP:20260421T173038
CREATED:20200219T174714Z
LAST-MODIFIED:20200219T174714Z
UID:28953-1589729400-1589734800@theredbones.com
SUMMARY:Festiv'Ouchy 2020
DESCRIPTION:
URL:https://theredbones.com/event/festivouchy-2020/
LOCATION:Ouchy\, Place de la Navigation\, Lausanne\, Vaud\, 1007
END:VEVENT
BEGIN:VEVENT
DTSTART;TZID=Europe/Zurich:20200307T153000
DTEND;TZID=Europe/Zurich:20200307T160000
DTSTAMP:20260421T173038
CREATED:20200224T184344Z
LAST-MODIFIED:20200224T185835Z
UID:29209-1583595000-1583596800@theredbones.com
SUMMARY:Tremplin Blues Rules Festival 2020
DESCRIPTION:
URL:https://theredbones.com/event/tremplin-blues-rules-festival-2020/
LOCATION:Fnac Lausanne\, Rue de Genève 6\, Lausanne\, 1003\, Suisse
ATTACH;FMTTYPE=image/jpeg:https://theredbones.com/wp-content/uploads/2020/02/84982143_2520504138058673_1525321299751075840_o.jpg
END:VEVENT
BEGIN:VEVENT
DTSTART;TZID=Europe/Zurich:20200224T080000
DTEND;TZID=Europe/Zurich:20200224T170000
DTSTAMP:20260421T173038
CREATED:20190615T171038Z
LAST-MODIFIED:20200224T185853Z
UID:29195-1582531200-1582563600@theredbones.com
SUMMARY:FestiMusiques Moudon 2019
DESCRIPTION:
URL:https://theredbones.com/event/festimusiques-moudon-2019/
LOCATION:Moudon\, 1510
ATTACH;FMTTYPE=image/jpeg:https://theredbones.com/wp-content/uploads/2019/06/moudon-affiche-2019-scaled.jpg
END:VEVENT
BEGIN:VEVENT
DTSTART;TZID=Europe/Zurich:20191106T210000
DTEND;TZID=Europe/Zurich:20191106T233000
DTSTAMP:20260421T173038
CREATED:20191109T002048Z
LAST-MODIFIED:20200224T185722Z
UID:29178-1573074000-1573083000@theredbones.com
SUMMARY:Duke’s Wine Tapas & Music Bar avec Midnight Karma
DESCRIPTION:
URL:https://theredbones.com/event/dukes-wine-tapas-music-bar-avec-midnight-karma/
LOCATION:Le Rôtillon\, Rue du Flon 12\, Lausanne\, 1003
ATTACH;FMTTYPE=image/jpeg:https://theredbones.com/wp-content/uploads/2020/02/MK-Dukes-Post-Nov-2019_28_sep_19-1-scaled.jpg
END:VEVENT
BEGIN:VEVENT
DTSTART;TZID=Europe/Zurich:20190908T160000
DTEND;TZID=Europe/Zurich:20190908T173000
DTSTAMP:20260421T173038
CREATED:20190909T170129Z
LAST-MODIFIED:20200224T185913Z
UID:29187-1567958400-1567963800@theredbones.com
SUMMARY:La Caravane des Quartiers\, La Sallaz\, Lausanne
DESCRIPTION:
URL:https://theredbones.com/event/la-caravane-des-quartiers-la-sallaz-lausanne/
LOCATION:La Sallaz\, Place de la Sallaz\, Lasuanne\, 1010
ATTACH;FMTTYPE=image/png:https://theredbones.com/wp-content/uploads/2020/02/screenshot-2019-09-08-at-19.10.34.png
END:VEVENT
BEGIN:VEVENT
DTSTART;TZID=Europe/Zurich:20190622T010000
DTEND;TZID=Europe/Zurich:20190622T020000
DTSTAMP:20260421T173038
CREATED:20190621T170859Z
LAST-MODIFIED:20200224T185934Z
UID:29191-1561165200-1561168800@theredbones.com
SUMMARY:Fête de la musique 2019
DESCRIPTION: 
URL:https://theredbones.com/event/fete-de-la-musique-2019/
LOCATION:Yverdon-les-Bains\, Le Château\, Yverdon-les-Bains\, 1400\, Suisse
ATTACH;FMTTYPE=image/png:https://theredbones.com/wp-content/uploads/2020/02/screenshot-2019-06-08-at-23.26.54.png
END:VEVENT
BEGIN:VEVENT
DTSTART;TZID=Europe/Zurich:20180628T210000
DTEND;TZID=Europe/Zurich:20180628T230000
DTSTAMP:20260421T173038
CREATED:20180628T171719Z
LAST-MODIFIED:20200224T190126Z
UID:29201-1530219600-1530226800@theredbones.com
SUMMARY:Caf'Art Music' Café
DESCRIPTION:
URL:https://theredbones.com/event/cafart-music-cafe/
LOCATION:Restaurant La Treille\, Route de Cossonay 26\, Prilly\, 1008\, Suisse
ATTACH;FMTTYPE=image/jpeg:https://theredbones.com/wp-content/uploads/2020/02/flyer-red-bones-caf-art-28juin.jpg
END:VEVENT
END:VCALENDAR